BEGIN:VCALENDAR
VERSION:2.0
PRODID:-//LIFE Changing Humanitarian Association - ECPv6.0.10//NONSGML v1.0//EN
CALSCALE:GREGORIAN
METHOD:PUBLISH
X-ORIGINAL-URL:https://lichacameroon.com
X-WR-CALDESC:Events for LIFE Changing Humanitarian Association
REFRESH-INTERVAL;VALUE=DURATION:PT1H
X-Robots-Tag:noindex
X-PUBLISHED-TTL:PT1H
BEGIN:VTIMEZONE
TZID:UTC
BEGIN:STANDARD
TZOFFSETFROM:+0000
TZOFFSETTO:+0000
TZNAME:UTC
DTSTART:20220101T000000
END:STANDARD
END:VTIMEZONE
BEGIN:VEVENT
DTSTART;TZID=UTC:20221027T090000
DTEND;TZID=UTC:20221027T140000
DTSTAMP:20260422T015748
CREATED:20220905T202814Z
LAST-MODIFIED:20220914T135501Z
UID:7559-1666861200-1666879200@lichacameroon.com
SUMMARY:BACK TO SCHOOL FOR ORPHANS\, THE PHYSICALLY CHALLENGED AND LESS PRIVILEGED CHILDREN.
DESCRIPTION:LICHA-CAMEROON in her quest to promote education to the less privileged\, and to the girl child is currently mobilizing resources to continue with her Annual Scholarship Scheme at the beginning of every academic year to children from disadvantaged backgrounds; the orphans\, the physically challenged\, the less privileged and young girls who are school dropped out in the localities of Nzah\, Ntahfor and Menteh in the Bamenda III Council area and Kumbo rural  in Bui Division are extremely affected by the Anglophone crisis. Worst of it\, the selected beneficiaries from these localities are internally displaced children\, adding to their vulnerability described above. A total of 500 children schooling in community and private schools due to the closure of government primary and secondary schools\, have been selected. They shall benefit from capitation grant\, while didactic materials shall also be provided to facilitate learning to these children. \nThese children whose lives and access to education are seemingly being greatly endangered do range from 4 to 15years old\, from primary school to junior secondary schools with a few critical cases in examination classes of primary and secondary schools. It is worth to note that\, most of these children are said to have lost their parents in the midst of the ongoing Anglophone crisis. Most of them are living with their vulnerable grandparents while some are perching with relatives and friends as a result of the ongoing Anglophone crisis that shutdown schools in rural communities. \nPlease join the kind-hearted team of LICHA-Cameroon composed of; the board members\, volunteers\, and past beneficiaries of the organization from any part of the world to commit to securing a bright future for these children by sending them to school. We welcome material or financial donations from any part of the world to help us achieve this goal on Thursday\, October 27th\, 2022. \n.   May GOD richly bless you for joining us to achieve this Goal.
URL:https://lichacameroon.com/event/back-to-school-for-orphans-the-physically-challenged-and-less-privileged-children/
LOCATION:HOPE BILINGUAL NURSERY AND PRIMARY SCHOOL\, Banshee/Banjah. Bamenda III Council Area\, Bamenda\, North West Region\, Cameroon
ATTACH;FMTTYPE=image/jpeg:https://lichacameroon.com/wp-content/uploads/2022/09/back-to-school.jpeg
END:VEVENT
END:VCALENDAR