BEGIN:VCALENDAR
VERSION:2.0
PRODID:-//LIFE Changing Humanitarian Association - ECPv6.0.10//NONSGML v1.0//EN
CALSCALE:GREGORIAN
METHOD:PUBLISH
X-ORIGINAL-URL:https://lichacameroon.com
X-WR-CALDESC:Events for LIFE Changing Humanitarian Association
REFRESH-INTERVAL;VALUE=DURATION:PT1H
X-Robots-Tag:noindex
X-PUBLISHED-TTL:PT1H
BEGIN:VTIMEZONE
TZID:UTC
BEGIN:STANDARD
TZOFFSETFROM:+0000
TZOFFSETTO:+0000
TZNAME:UTC
DTSTART:20220101T000000
END:STANDARD
END:VTIMEZONE
BEGIN:VEVENT
DTSTART;TZID=UTC:20221215T110000
DTEND;TZID=UTC:20221215T150000
DTSTAMP:20260422T004129
CREATED:20220905T205847Z
LAST-MODIFIED:20220905T220200Z
UID:7568-1671102000-1671116400@lichacameroon.com
SUMMARY:OUT REACH TO UNDERPRIVILEGED WIDOWS’\, INTERNALLY DISPLACED AND WOMEN WITH DISABILITIES IN BAMENDA III AND KUMBO.
DESCRIPTION:Whatsoever you do to the least of my brothers that you do onto me” (Matthew.25:40). Striving to fulfill these words of Christ and to actualize the reputable but constant humanitarian tenets of the organization\, LICHA Cameroon family is currently in the process of mobilizing food stuffs and other relief assistance to reach out to vulnerable women on Thursday\, December 15th 2022 in Kumbo Bui Division and the Bamenda III council area of the North West Region of Cameroon\, extremely affected by the ongoing Anglophone crisis. \nMindful of the fact that reaching out to vulnerable and underprivileged women/children of some selected communities in Cameroon (such as those of Nkwen\, Nzah and Adamawa) has been a tradition of the organization for the past three years. It was unanimously agreed that donation of foodstuff and other items to put smiles on the faces of underprivileged\, internally displaced\, widows and women with disabilities in the Bamenda III and Kumbo central of the North West region of Cameroon is a situation worth supporting. These deplorable conditions of their sufferings were brought to the lime-light by our delegates from Bamenda and Kumbo. While hoping to develop a sustainable solutions for these women\, we belief donating foodstuff and other relief assistance during the festive period will be putting indelible smiles on their faces. \nPlease join the kind-hearted team of LICHA-Cameroon composed of; the board members\, volunteers and past beneficiaries of the organization from any part of the world to commit in contributing to put smiles on the faces of these needy persons. We welcome material or financial donations from any part of the world that will help us to achieve this goal on Thursday\, December 15th 2022. \n.   May GOD richly bless you for joining us to achieve this Goal.
URL:https://lichacameroon.com/event/out-reach-to-underprivileged-widows-internally-displaced-and-women-with-disabilities-in-bamenda-iii-and-kumbo/
LOCATION:LICHA HEAD OFFICE\, Bamenda\, LICHA HEAD OFFICE\, Bamenda\, Bamenda\, North West Region\, Cameroon
ATTACH;FMTTYPE=image/jpeg:https://lichacameroon.com/wp-content/uploads/2022/09/december-event.jpg
END:VEVENT
END:VCALENDAR